BEGIN:VCALENDAR
VERSION:2.0
PRODID:-//ddaysoftware.com//NONSGML DDay.iCal 1.0//EN
BEGIN:VEVENT
DESCRIPTION:Website: https://eye.conferenceseries.com/
DTEND:20180908T050000Z
DTSTAMP:20260425T120650
DTSTART:20180906T050000Z
LOCATION: \,  
SEQUENCE:0
SUMMARY:World Eye and Vision Congress
UID:390924b8-d652-46d7-a791-82ddf0a3a57b
END:VEVENT
END:VCALENDAR
