BEGIN:VCALENDAR
VERSION:2.0
PRODID:-//ddaysoftware.com//NONSGML DDay.iCal 1.0//EN
BEGIN:VEVENT
DESCRIPTION:Please join us for the Retina World Congress (RWC)\, one of the
  world’s premiere congresses on retina health. From across the globe\, int
 ernational retina societies and industry leaders ranging from health care 
 professionals to corporate representatives will convene for what is truly 
 a retina world congress. RWC will be a dynamic educational and professiona
 l forum where attendees will learn about the latest scientific global inno
 vations and engage in dialogue with the world’s most prominent leaders in 
 retina health. \nContact Name: Christine SantosPhone: 619-798-3795Email: c
 hristine.santos@mcmeglobal.com
DTEND:20170226T060000Z
DTSTAMP:20260419T090732
DTSTART:20170223T060000Z
LOCATION: Fort Lauderdale\, Florida 
SEQUENCE:0
SUMMARY:Retina World Congress
UID:e4e3eb5f-a58c-4814-8f3b-7971ddf3e71a
END:VEVENT
END:VCALENDAR
