BEGIN:VCALENDAR
VERSION:2.0
PRODID:-//ddaysoftware.com//NONSGML DDay.iCal 1.0//EN
BEGIN:VEVENT
DESCRIPTION:Registration rates\n\n\n\n\n\n\n\n\nEarly Bird\non or before 12
 /31/14\n\n\n2nd Early Bird\n1/1/15 - 2/1/15\n\n\nRegular\n2/2/15-7/6/15\n\
 n\nLate/Onsite\nafter 7/6/15\n\n\n\n\nMember\n\n\n$975\n\n\n$1\,125\n\n\n$
 1\,275\n\n\n$1\,575\n\n\n\n\nNonmember physician\n\n\n$1\,520\n\n\n$1\,700
 \n\n\n$1\,850\n\n\n$2\,150\n\n\n\n\nNonmember nonphysician\n\n\n$3\,000\n\
 n\n$3\,250\n\n\n$3\,500\n\n\n$5\,500\n\n\n\n\nFellow member\n\n\n$625\n\n\
 n$650\n\n\n$675\n\n$775\n\n\n\nFellow nonmember\n\n\n$725\n\n\n$725\n\n\n$
 725\n\n$775\n\n\n\nAdult Guest\n\n\n$400\n\n\n$450\n\n\n$500\n\n\n$550\n\n
 \n\n\nChild Guest (ages 4-11)\n\n\n$200\n\n\n$225\n\n\n$250\n\n$275\n\n\n\
 nChild Guest (under 4)\n\nn/c\nn/c\nn/c\nn/c\n\n\n\n\n\n\n\n\n\n\n\n\n\nEa
 rly Bird\non or before 12/31/14\n\n\n2nd Early Bird\n1/1/15 - 2/1/15\n\n\n
 Regular\n2/2/15-7/6/15\n\n\nLate/Onsite\nafter 7/6/15\n\n\n\n\nCorporate r
 epresentative\n\n\n$1000\n\n\n$1000\n\n\n$1\,200\n\n\n$1\,500\n\n\n\n\nCor
 porate representative Comp\n\n\n$0\n\n\n$0\n\n\n$0\n\n\n$0\n\n\n\n\n\nCorp
 orate representatives include representatives of exhibiting companies and 
 representatives of companies that are a part of the ASRS Corporate Members
 hip Program (CMP).\nThe registration fee (regular and corporate) includes 
 name badge\, meeting materials\, Retina Case Conference\, scientific sessi
 ons\, instructional courses\, papers on demand\, film festival\, exhibit h
 all tradeshow\, Welcome Reception\, refreshment breaks\, daily lunch in th
 e exhibit hall\, Women in Retina Symposium\, Wine and Cheese Reception\, a
 nd Closing Dinner.\nAdult guest fees include Welcome Reception and Closing
  Dinner.\nChild guest fees include Welcome Reception and Closing Dinner.\n
 Registration fees are fixed and cannot be broken for partial attendance of
  days or sessions\, or non-attendance of social events.\nQUESTIONS?\nCall 
 the ASRS headquarters office (312)578-8760.\nVisit http://www.asrs.org/ann
 ual-meeting/registration to register. 
DTEND:20150714T050000Z
DTSTAMP:20260425T120037
DTSTART:20150711T050000Z
LOCATION: \,  
SEQUENCE:0
SUMMARY:ASRS 33rd Annual Meeting
UID:cf8672d2-b1a7-4548-b1f0-b9920db7ff77
END:VEVENT
END:VCALENDAR
