BEGIN:VCALENDAR
VERSION:2.0
PRODID:-//ddaysoftware.com//NONSGML DDay.iCal 1.0//EN
BEGIN:VEVENT
DESCRIPTION:Registration is now closed. Contact stacy.kiff@asrs.org regardi
 ng availability. We will do our best to accommodate you. However\, please 
 note that this webinar will be available as an enduring product for review
  at a later date. \nASRS Webinar in conjunction with AAO\nJoin us at 8:30 
 PM Eastern Time on Wednesday\, September 10 for a one hour webinar entitle
 d “Medicare Advantage Contract Negotiations: What You Need to Know”.\n Des
 cription\nIt is critical for practices to develop a process for continuous
 ly evaluating payer contracts in order to ensure maximum reimbursement. To
 o commonly\, physicians do not have an overall strategy for negotiating co
 ntracts in order to obtain the best possible rates for private and Medicar
 e Advantage Plans.\n This timely webinar will cover your most pressing pro
 blems and questions such as:\n\nManaging policies that restrict access to 
 physicians’ choice of drugs – prior authorization\, etc.\nUnderstanding th
 e fee schedule for J codes\nHow to review IPAs\nHow to handle disputes whe
 n they arise\n
DTEND:20140911T013000Z
DTSTAMP:20260424T201134
DTSTART:20140911T003000Z
LOCATION: \,  
SEQUENCE:0
SUMMARY:Webinar: Medicare Advantage Contract Negotiations: What You Need to
  Know
UID:ed04d7f6-7e4a-4a5c-8b73-59d54e49c82e
END:VEVENT
END:VCALENDAR
