BEGIN:VCALENDAR
VERSION:2.0
PRODID:-//ddaysoftware.com//NONSGML DDay.iCal 1.0//EN
BEGIN:VEVENT
DESCRIPTION:All ASRS International Members are invited to attend the ASRS I
 nternational Member Reception at the ASRS 32nd Annual Meeting:\nMonday\, A
 ugust 117:30 - 8:30pm Sapphire TerraceHilton BayfrontSan Diego\, Californi
 a\nWe hope you will join us for an evening with your international colleag
 ues and we look forward to seeing you in San Diego.  Please RSVP by July 2
 5th. Please log in to the ASRS website to register. If you have any questi
 ons or issues RSVPing please contact Caroline Bozell at caroline.bozell@as
 rs.org. 
DTEND:20140812T013000Z
DTSTAMP:20260425T132543
DTSTART:20140812T003000Z
LOCATION:Hilton Bayfront\, Sapphire Terrace San Diego\, California 
SEQUENCE:0
SUMMARY:ASRS International Member Reception
UID:426fd2a3-7e68-4ebc-9229-bd3739eeae3d
END:VEVENT
END:VCALENDAR
