BEGIN:VCALENDAR
VERSION:2.0
PRODID:-//ddaysoftware.com//NONSGML DDay.iCal 1.0//EN
BEGIN:VEVENT
DESCRIPTION:Congress brings together retina specialists from every continen
 t to achieve a global scientific and clinical exchange in retinal health.\
 nContact Name: Robin Simon Phone: 856-848-1712 Fax: 856-251-0278 Email: re
 gistration@HealioLive.com Website URL: https://www.healio.com/meeting/atte
 ndrwc/home
DTEND:20240512T050000Z
DTSTAMP:20260425T114420
DTSTART:20240509T050000Z
LOCATION:Marriott Harbor Beach Resort Ft. Lauderdale\, FL 
SEQUENCE:0
SUMMARY:Retina World Congress
UID:4cd01d3e-6c0f-4834-93f9-b491f2e2a052
END:VEVENT
END:VCALENDAR
